BEGIN:VCALENDAR
VERSION:2.0
PRODID:-//22nd Annual Boulder Film Festival//EN
METHOD:PUBLISH
BEGIN:VEVENT
UID:664@m.biff1.com
DTSTAMP:20260425T211754Z
DTSTART:20200307T170000Z
DTEND:20200307T183300Z
SUMMARY:Ai Weiwei: Yours Truly (HS-01)
DESCRIPTION: Ai Weiwei: Yours Truly (HS-01)\nat 22nd Annual Boulder Film Festival 2020\nUSA\, Feature Documentary\, 2019\, 78 min\n\nAi Weiwei\, China's most famous artist and activist\, recalls his father Ai Qing receiving an anonymous postcard during his long years in a Chinese labor camp\, commemorating the publication of Ai Qing’s most famous poem. His father took great solace in the card\, and Ai Weiwei never forgot it. Many years later\, Ai Weiwei designed "Yours Truly\," a monumental art installation in Alcatraz Prison that included portraits├â┬ó├óΓÇÜ┬¼├óΓé¼┬¥in Lego-blocks├â┬ó├óΓÇÜ┬¼├óΓé¼┬¥of 172 persons currently jailed for crimes of conscience in the world. Included were thousands of pick-up postcards addressed to the prisoners. Nearly a million people attended the exhibition\, and 92\,000 postcards were mailed. In interviews with released prisoners\, we discover the surprising effect that the postcards had on their lives\, and how small acts can lead to significant change.\n\n\n\n\n\nSaturday\, March 7\, 2020\, 10:00 am\nBoulder High\nInfo & Trailer: http://m.biff1.com/event.php?event=664\nTickets: https://boxoffice.biff1.com/schedule/5e43de79ab7b25003148e539/tickets
LOCATION: Boulder High
END:VEVENT
END:VCALENDAR