BEGIN:VCALENDAR
VERSION:2.0
PRODID:-//22nd Annual Boulder Film Festival//EN
METHOD:PUBLISH
BEGIN:VEVENT
UID:665@m.biff1.com
DTSTAMP:20260425T212034Z
DTSTART:20200308T000000Z
DTEND:20200308T013500Z
SUMMARY:Ai Weiwei: Yours Truly (LONG-06)
DESCRIPTION: Ai Weiwei: Yours Truly (LONG-06)\nat 22nd Annual Boulder Film Festival 2020\nUSA\, Feature Documentary\, 2019\, 78 min\n\nAi Weiwei\, China's most famous artist and activist\, recalls his father Ai Qing receiving an anonymous postcard during his long years in a Chinese labor camp\, commemorating the publication of Ai Qing’s most famous poem. His father took great solace in the card\, and Ai Weiwei never forgot it. Many years later\, Ai Weiwei designed "Yours Truly\," a monumental art installation in Alcatraz Prison that included portraits├â┬ó├óΓÇÜ┬¼├óΓé¼┬¥in Lego-blocks├â┬ó├óΓÇÜ┬¼├óΓé¼┬¥of 172 persons currently jailed for crimes of conscience in the world. Included were thousands of pick-up postcards addressed to the prisoners. Nearly a million people attended the exhibition\, and 92\,000 postcards were mailed. In interviews with released prisoners\, we discover the surprising effect that the postcards had on their lives\, and how small acts can lead to significant change.\n\n\n\n\n\nSaturday\, March 7\, 2020\, 5:00 pm\nLongmont Museum\nInfo & Trailer: http://m.biff1.com/event.php?event=665\nTickets: https://rec.ci.longmont.co.us/wbwsc/webtrac.wsc/search.html?module=PST&keyword=LONG-06
LOCATION: Longmont Museum
END:VEVENT
END:VCALENDAR